BEGIN:VCALENDAR
VERSION:2.0
PRODID:icalendar-ruby
CALSCALE:GREGORIAN
METHOD:PUBLISH
BEGIN:VEVENT
DTSTAMP:20260420T034220Z
UID:344-123323@nhbcmineola.com
DTSTART;VALUE=DATE:20260420
DTEND;VALUE=DATE:20260420
CLASS:PUBLIC
CREATED:20260227T135024
DESCRIPTION:
LAST-MODIFIED:20260227T135024
LOCATION:Fellowship hall
SUMMARY:Facilities Reserved
URL;VALUE=URI:https://nhbcmineola.com/events/facilities-reserved--344/2026-
 04-20
END:VEVENT
END:VCALENDAR
